BEGIN:VCALENDAR
VERSION:2.0
PRODID:-//The Pediatric Place - ECPv6.15.20//NONSGML v1.0//EN
CALSCALE:GREGORIAN
METHOD:PUBLISH
X-WR-CALNAME:The Pediatric Place
X-ORIGINAL-URL:https://thepediatricplacellc.com
X-WR-CALDESC:Events for The Pediatric Place
REFRESH-INTERVAL;VALUE=DURATION:PT1H
X-Robots-Tag:noindex
X-PUBLISHED-TTL:PT1H
BEGIN:VTIMEZONE
TZID:America/New_York
BEGIN:DAYLIGHT
TZOFFSETFROM:-0500
TZOFFSETTO:-0400
TZNAME:EDT
DTSTART:20240310T070000
END:DAYLIGHT
BEGIN:STANDARD
TZOFFSETFROM:-0400
TZOFFSETTO:-0500
TZNAME:EST
DTSTART:20241103T060000
END:STANDARD
BEGIN:DAYLIGHT
TZOFFSETFROM:-0500
TZOFFSETTO:-0400
TZNAME:EDT
DTSTART:20250309T070000
END:DAYLIGHT
BEGIN:STANDARD
TZOFFSETFROM:-0400
TZOFFSETTO:-0500
TZNAME:EST
DTSTART:20251102T060000
END:STANDARD
BEGIN:DAYLIGHT
TZOFFSETFROM:-0500
TZOFFSETTO:-0400
TZNAME:EDT
DTSTART:20260308T070000
END:DAYLIGHT
BEGIN:STANDARD
TZOFFSETFROM:-0400
TZOFFSETTO:-0500
TZNAME:EST
DTSTART:20261101T060000
END:STANDARD
END:VTIMEZONE
BEGIN:VEVENT
DTSTART;TZID=America/New_York:20250407T100000
DTEND;TZID=America/New_York:20250407T113000
DTSTAMP:20260424T035439
CREATED:20241226T091651Z
LAST-MODIFIED:20241226T091651Z
UID:218626-1744020000-1744025400@thepediatricplacellc.com
SUMMARY:Harvesters Food Drive Thru
DESCRIPTION:
URL:https://thepediatricplacellc.com/event/harvesters-food-drive-thru-4/
LOCATION:Deepwater\, 707 S 8th Street\, Deepwater\, MO\, 64740\, United States
END:VEVENT
BEGIN:VEVENT
DTSTART;TZID=America/New_York:20250412T100000
DTEND;TZID=America/New_York:20250412T140000
DTSTAMP:20260424T035439
CREATED:20250114T203940Z
LAST-MODIFIED:20250114T204235Z
UID:218774-1744452000-1744466400@thepediatricplacellc.com
SUMMARY:Autism and Neurodevelopmental Resource Fair
DESCRIPTION:
URL:https://thepediatricplacellc.com/event/autism-and-neurodevelopmental-resource-fair/
LOCATION:The Pediatric Place – Clinton Clinic\, 210 S 2nd St\, Clinton\, 64735\, United States
END:VEVENT
BEGIN:VEVENT
DTSTART;TZID=America/New_York:20250421T070000
DTEND;TZID=America/New_York:20250421T083000
DTSTAMP:20260424T035439
CREATED:20241226T071909Z
LAST-MODIFIED:20241226T071958Z
UID:218599-1745218800-1745224200@thepediatricplacellc.com
SUMMARY:Golden Valley Seventh-day Adventist Church- Food Pantry
DESCRIPTION:
URL:https://thepediatricplacellc.com/event/golden-valley-seventh-day-adventist-church-food-pantry-4/
LOCATION:Golden Valley\, 2000 Community Drive Clinton\, MO 64735\, Clinton\, MO\, 64735\, United States
END:VEVENT
END:VCALENDAR