BEGIN:VCALENDAR
VERSION:2.0
PRODID:-//The Pediatric Place - ECPv6.15.20//NONSGML v1.0//EN
CALSCALE:GREGORIAN
METHOD:PUBLISH
X-ORIGINAL-URL:https://thepediatricplacellc.com
X-WR-CALDESC:Events for The Pediatric Place
REFRESH-INTERVAL;VALUE=DURATION:PT1H
X-Robots-Tag:noindex
X-PUBLISHED-TTL:PT1H
BEGIN:VTIMEZONE
TZID:America/New_York
BEGIN:DAYLIGHT
TZOFFSETFROM:-0500
TZOFFSETTO:-0400
TZNAME:EDT
DTSTART:20240310T070000
END:DAYLIGHT
BEGIN:STANDARD
TZOFFSETFROM:-0400
TZOFFSETTO:-0500
TZNAME:EST
DTSTART:20241103T060000
END:STANDARD
BEGIN:DAYLIGHT
TZOFFSETFROM:-0500
TZOFFSETTO:-0400
TZNAME:EDT
DTSTART:20250309T070000
END:DAYLIGHT
BEGIN:STANDARD
TZOFFSETFROM:-0400
TZOFFSETTO:-0500
TZNAME:EST
DTSTART:20251102T060000
END:STANDARD
BEGIN:DAYLIGHT
TZOFFSETFROM:-0500
TZOFFSETTO:-0400
TZNAME:EDT
DTSTART:20260308T070000
END:DAYLIGHT
BEGIN:STANDARD
TZOFFSETFROM:-0400
TZOFFSETTO:-0500
TZNAME:EST
DTSTART:20261101T060000
END:STANDARD
BEGIN:DAYLIGHT
TZOFFSETFROM:-0500
TZOFFSETTO:-0400
TZNAME:EDT
DTSTART:20270314T070000
END:DAYLIGHT
BEGIN:STANDARD
TZOFFSETFROM:-0400
TZOFFSETTO:-0500
TZNAME:EST
DTSTART:20271107T060000
END:STANDARD
END:VTIMEZONE
BEGIN:VEVENT
DTSTART;TZID=America/New_York:20260323T100000
DTEND;TZID=America/New_York:20260323T140000
DTSTAMP:20260423T104122
CREATED:20260305T064125Z
LAST-MODIFIED:20260305T064952Z
UID:219837-1774260000-1774274400@thepediatricplacellc.com
SUMMARY:St. Clair County Loads of Kindness
DESCRIPTION:
URL:https://thepediatricplacellc.com/event/st-clair-county-loads-of-kindness/
LOCATION:Osceola\, Osceola\, Laundry Mat 125 Olive St Osceola\, United States
END:VEVENT
BEGIN:VEVENT
DTSTART;TZID=America/New_York:20251223T100000
DTEND;TZID=America/New_York:20251223T150000
DTSTAMP:20260423T104122
CREATED:20251203T094553Z
LAST-MODIFIED:20251203T094553Z
UID:219690-1766484000-1766502000@thepediatricplacellc.com
SUMMARY:Henry County Laundry
DESCRIPTION:Magic Coin Laundry Express
URL:https://thepediatricplacellc.com/event/henry-county-laundry/
END:VEVENT
BEGIN:VEVENT
DTSTART;TZID=America/New_York:20251215T070000
DTEND;TZID=America/New_York:20251215T083000
DTSTAMP:20260423T104122
CREATED:20241226T072715Z
LAST-MODIFIED:20241226T072715Z
UID:218615-1765782000-1765787400@thepediatricplacellc.com
SUMMARY:Golden Valley Seventh-day Adventist Church- Food Pantry
DESCRIPTION:
URL:https://thepediatricplacellc.com/event/golden-valley-seventh-day-adventist-church-food-pantry-12/
LOCATION:Golden Valley\, 2000 Community Drive Clinton\, MO 64735\, Clinton\, MO\, 64735\, United States
END:VEVENT
BEGIN:VEVENT
DTSTART;TZID=America/New_York:20251117T070000
DTEND;TZID=America/New_York:20251117T083000
DTSTAMP:20260423T104122
CREATED:20241226T072627Z
LAST-MODIFIED:20241226T072627Z
UID:218613-1763362800-1763368200@thepediatricplacellc.com
SUMMARY:Golden Valley Seventh-day Adventist Church- Food Pantry
DESCRIPTION:
URL:https://thepediatricplacellc.com/event/golden-valley-seventh-day-adventist-church-food-pantry-11/
LOCATION:Golden Valley\, 2000 Community Drive Clinton\, MO 64735\, Clinton\, MO\, 64735\, United States
END:VEVENT
BEGIN:VEVENT
DTSTART;TZID=America/New_York:20251108T150000
DTEND;TZID=America/New_York:20251108T170000
DTSTAMP:20260423T104122
CREATED:20251027T135924Z
LAST-MODIFIED:20251027T141435Z
UID:219653-1762614000-1762621200@thepediatricplacellc.com
SUMMARY:Free Thanksgiving Dinner
DESCRIPTION:
URL:https://thepediatricplacellc.com/event/free-thanksgiving-dinner/
LOCATION:TPP Clinics
END:VEVENT
BEGIN:VEVENT
DTSTART;TZID=America/New_York:20251030T170000
DTEND;TZID=America/New_York:20251030T183000
DTSTAMP:20260423T104122
CREATED:20251027T135655Z
LAST-MODIFIED:20251027T135800Z
UID:219648-1761843600-1761849000@thepediatricplacellc.com
SUMMARY:Sensory Friendly Trick Or Treat
DESCRIPTION:
URL:https://thepediatricplacellc.com/event/sensory-friendly-trick-or-treat/
LOCATION:TPP Clinics
END:VEVENT
BEGIN:VEVENT
DTSTART;TZID=America/New_York:20251022T140000
DTEND;TZID=America/New_York:20251022T190000
DTSTAMP:20260423T104122
CREATED:20250904T114413Z
LAST-MODIFIED:20250905T041943Z
UID:219532-1761141600-1761159600@thepediatricplacellc.com
SUMMARY:Loads of Kindness - Free Laundry Services
DESCRIPTION:
URL:https://thepediatricplacellc.com/event/loads-of-kindness-free-laundry-services/
LOCATION:Wesmore\, 106 Wesmore St Clinton Mo\, United States
END:VEVENT
BEGIN:VEVENT
DTSTART;TZID=America/New_York:20251020T070000
DTEND;TZID=America/New_York:20251020T083000
DTSTAMP:20260423T104122
CREATED:20241226T072523Z
LAST-MODIFIED:20241226T072546Z
UID:218611-1760943600-1760949000@thepediatricplacellc.com
SUMMARY:Golden Valley Seventh-day Adventist Church- Food Pantry
DESCRIPTION:
URL:https://thepediatricplacellc.com/event/golden-valley-seventh-day-adventist-church-food-pantry-10/
LOCATION:Golden Valley\, 2000 Community Drive Clinton\, MO 64735\, Clinton\, MO\, 64735\, United States
END:VEVENT
BEGIN:VEVENT
DTSTART;TZID=America/New_York:20251006T100000
DTEND;TZID=America/New_York:20251006T233000
DTSTAMP:20260423T104122
CREATED:20241226T092222Z
LAST-MODIFIED:20241226T092336Z
UID:218640-1759744800-1759793400@thepediatricplacellc.com
SUMMARY:Harvesters Food Drive Thru
DESCRIPTION:
URL:https://thepediatricplacellc.com/event/harvesters-food-drive-thru-10/
LOCATION:Deepwater\, 707 S 8th Street\, Deepwater\, MO\, 64740\, United States
END:VEVENT
BEGIN:VEVENT
DTSTART;TZID=America/New_York:20250915T070000
DTEND;TZID=America/New_York:20250915T083000
DTSTAMP:20260423T104122
CREATED:20241226T072441Z
LAST-MODIFIED:20241226T073852Z
UID:218609-1757919600-1757925000@thepediatricplacellc.com
SUMMARY:Golden Valley Seventh-day Adventist Church- Food Pantry
DESCRIPTION:
URL:https://thepediatricplacellc.com/event/golden-valley-seventh-day-adventist-church-food-pantry-9/
LOCATION:Golden Valley\, 2000 Community Drive Clinton\, MO 64735\, Clinton\, MO\, 64735\, United States
END:VEVENT
BEGIN:VEVENT
DTSTART;TZID=America/New_York:20250912T090000
DTEND;TZID=America/New_York:20250912T150000
DTSTAMP:20260423T104122
CREATED:20250505T101445Z
LAST-MODIFIED:20250505T101445Z
UID:219282-1757667600-1757689200@thepediatricplacellc.com
SUMMARY:Project Connect - Clinton Benson Center
DESCRIPTION:
URL:https://thepediatricplacellc.com/event/project-connect-clinton-benson-center/
LOCATION:Clinton Benson Center
END:VEVENT
BEGIN:VEVENT
DTSTART;TZID=America/New_York:20250901T100000
DTEND;TZID=America/New_York:20250901T233000
DTSTAMP:20260423T104122
CREATED:20241226T092149Z
LAST-MODIFIED:20241226T092334Z
UID:218638-1756720800-1756769400@thepediatricplacellc.com
SUMMARY:Harvesters Food Drive Thru
DESCRIPTION:
URL:https://thepediatricplacellc.com/event/harvesters-food-drive-thru-9/
LOCATION:Deepwater\, 707 S 8th Street\, Deepwater\, MO\, 64740\, United States
END:VEVENT
BEGIN:VEVENT
DTSTART;TZID=America/New_York:20250818T070000
DTEND;TZID=America/New_York:20250818T083000
DTSTAMP:20260423T104122
CREATED:20241226T072321Z
LAST-MODIFIED:20241226T072402Z
UID:218607-1755500400-1755505800@thepediatricplacellc.com
SUMMARY:Golden Valley Seventh-day Adventist Church- Food Pantry
DESCRIPTION:
URL:https://thepediatricplacellc.com/event/golden-valley-seventh-day-adventist-church-food-pantry-8/
LOCATION:Golden Valley\, 2000 Community Drive Clinton\, MO 64735\, Clinton\, MO\, 64735\, United States
END:VEVENT
BEGIN:VEVENT
DTSTART;TZID=America/New_York:20250804T100000
DTEND;TZID=America/New_York:20250804T233000
DTSTAMP:20260423T104122
CREATED:20241226T092042Z
LAST-MODIFIED:20241226T092056Z
UID:218636-1754301600-1754350200@thepediatricplacellc.com
SUMMARY:Harvesters Food Drive Thru
DESCRIPTION:
URL:https://thepediatricplacellc.com/event/harvesters-food-drive-thru-8/
LOCATION:Deepwater\, 707 S 8th Street\, Deepwater\, MO\, 64740\, United States
END:VEVENT
BEGIN:VEVENT
DTSTART;TZID=America/New_York:20250721T070000
DTEND;TZID=America/New_York:20250721T083000
DTSTAMP:20260423T104122
CREATED:20241226T072224Z
LAST-MODIFIED:20241226T074842Z
UID:218605-1753081200-1753086600@thepediatricplacellc.com
SUMMARY:Golden Valley Seventh-day Adventist Church- Food Pantry
DESCRIPTION:
URL:https://thepediatricplacellc.com/event/golden-valley-seventh-day-adventist-church-food-pantry-7/
LOCATION:Golden Valley\, 2000 Community Drive Clinton\, MO 64735\, Clinton\, MO\, 64735\, United States
END:VEVENT
BEGIN:VEVENT
DTSTART;TZID=America/New_York:20250707T100000
DTEND;TZID=America/New_York:20250707T233000
DTSTAMP:20260423T104122
CREATED:20241226T091952Z
LAST-MODIFIED:20241226T093539Z
UID:218634-1751882400-1751931000@thepediatricplacellc.com
SUMMARY:Harvesters Food Drive Thru
DESCRIPTION:
URL:https://thepediatricplacellc.com/event/harvesters-food-drive-thru-7/
LOCATION:Deepwater\, 707 S 8th Street\, Deepwater\, MO\, 64740\, United States
END:VEVENT
BEGIN:VEVENT
DTSTART;TZID=America/New_York:20250616T070000
DTEND;TZID=America/New_York:20250616T083000
DTSTAMP:20260423T104122
CREATED:20241226T072122Z
LAST-MODIFIED:20241226T072122Z
UID:218603-1750057200-1750062600@thepediatricplacellc.com
SUMMARY:Golden Valley Seventh-day Adventist Church- Food Pantry
DESCRIPTION:
URL:https://thepediatricplacellc.com/event/golden-valley-seventh-day-adventist-church-food-pantry-6/
LOCATION:Golden Valley\, 2000 Community Drive Clinton\, MO 64735\, Clinton\, MO\, 64735\, United States
END:VEVENT
BEGIN:VEVENT
DTSTART;TZID=America/New_York:20250612T173000
DTEND;TZID=America/New_York:20250612T173000
DTSTAMP:20260423T104122
CREATED:20250505T101311Z
LAST-MODIFIED:20250505T101818Z
UID:219279-1749749400-1749749400@thepediatricplacellc.com
SUMMARY:Summer Nights at TPP
DESCRIPTION:
URL:https://thepediatricplacellc.com/event/summer-nights-at-tpp-2/
LOCATION:The Pediatric Place in Knob Noster
END:VEVENT
BEGIN:VEVENT
DTSTART;TZID=America/New_York:20250610T173000
DTEND;TZID=America/New_York:20250610T173000
DTSTAMP:20260423T104122
CREATED:20250505T101028Z
LAST-MODIFIED:20250505T101923Z
UID:219277-1749576600-1749576600@thepediatricplacellc.com
SUMMARY:Summer Nights at TPP - Clinton
DESCRIPTION:
URL:https://thepediatricplacellc.com/event/summer-nights-at-tpp/
LOCATION:The Pediatric Place – Clinton Clinic\, 210 S 2nd St\, Clinton\, 64735\, United States
END:VEVENT
BEGIN:VEVENT
DTSTART;TZID=America/New_York:20250607T090000
DTEND;TZID=America/New_York:20250607T090000
DTSTAMP:20260423T104122
CREATED:20250505T100821Z
LAST-MODIFIED:20250505T102057Z
UID:219275-1749286800-1749286800@thepediatricplacellc.com
SUMMARY:Life Line Screening
DESCRIPTION:
URL:https://thepediatricplacellc.com/event/life-line-screening/
LOCATION:Clinton Mo Elks Lodge
END:VEVENT
BEGIN:VEVENT
DTSTART;TZID=America/New_York:20250606T090000
DTEND;TZID=America/New_York:20250606T120000
DTSTAMP:20260423T104122
CREATED:20250505T100611Z
LAST-MODIFIED:20250505T100717Z
UID:219273-1749200400-1749211200@thepediatricplacellc.com
SUMMARY:Rise Henry County Special Olympics
DESCRIPTION:
URL:https://thepediatricplacellc.com/event/rise-henry-county-special-olympics/
LOCATION:Clinton\, Mo Elks Lodge
END:VEVENT
BEGIN:VEVENT
DTSTART;TZID=America/New_York:20250602T100000
DTEND;TZID=America/New_York:20250602T233000
DTSTAMP:20260423T104122
CREATED:20241226T091837Z
LAST-MODIFIED:20241226T091837Z
UID:218631-1748858400-1748907000@thepediatricplacellc.com
SUMMARY:Harvesters Food Drive Thru
DESCRIPTION:
URL:https://thepediatricplacellc.com/event/harvesters-food-drive-thru-6/
LOCATION:Deepwater\, 707 S 8th Street\, Deepwater\, MO\, 64740\, United States
END:VEVENT
BEGIN:VEVENT
DTSTART;TZID=America/New_York:20250531T120000
DTEND;TZID=America/New_York:20250531T160000
DTSTAMP:20260423T104122
CREATED:20250505T100216Z
LAST-MODIFIED:20250505T100346Z
UID:219269-1748692800-1748707200@thepediatricplacellc.com
SUMMARY:Spring into Summer
DESCRIPTION:
URL:https://thepediatricplacellc.com/event/spring-into-summer/
LOCATION:121 E Jefferson\, St Clinton MO
END:VEVENT
BEGIN:VEVENT
DTSTART;TZID=America/New_York:20250519T070000
DTEND;TZID=America/New_York:20250519T083000
DTSTAMP:20260423T104122
CREATED:20241226T072038Z
LAST-MODIFIED:20241226T073029Z
UID:218601-1747638000-1747643400@thepediatricplacellc.com
SUMMARY:Golden Valley Seventh-day Adventist Church- Food Pantry
DESCRIPTION:
URL:https://thepediatricplacellc.com/event/golden-valley-seventh-day-adventist-church-food-pantry-5/
LOCATION:Golden Valley\, 2000 Community Drive Clinton\, MO 64735\, Clinton\, MO\, 64735\, United States
END:VEVENT
BEGIN:VEVENT
DTSTART;TZID=America/New_York:20250516T190000
DTEND;TZID=America/New_York:20250516T190000
DTSTAMP:20260423T104122
CREATED:20250505T093806Z
LAST-MODIFIED:20250505T094040Z
UID:219255-1747422000-1747422000@thepediatricplacellc.com
SUMMARY:Summer Movie Night
DESCRIPTION:
URL:https://thepediatricplacellc.com/event/summer-movie-night/
LOCATION:300 N Holden St\, Warrensburg Mo 64093
END:VEVENT
BEGIN:VEVENT
DTSTART;TZID=America/New_York:20250510T160000
DTEND;TZID=America/New_York:20250510T160000
DTSTAMP:20260423T104122
CREATED:20250505T095426Z
LAST-MODIFIED:20250505T095442Z
UID:219262-1746892800-1746892800@thepediatricplacellc.com
SUMMARY:Cruisin to Clinton Musters Cruise Night
DESCRIPTION:
URL:https://thepediatricplacellc.com/event/cruisin-to-clinton-musters-cruise-night/
LOCATION:Clinton\, Mo Elks Lodge
END:VEVENT
BEGIN:VEVENT
DTSTART;TZID=America/New_York:20250510T090000
DTEND;TZID=America/New_York:20250510T110000
DTSTAMP:20260423T104122
CREATED:20250505T094855Z
LAST-MODIFIED:20250505T095106Z
UID:219258-1746867600-1746874800@thepediatricplacellc.com
SUMMARY:W-K Cuise- In
DESCRIPTION:
URL:https://thepediatricplacellc.com/event/w-k-cuise-in/
LOCATION:W-K\, Sedalia\, United States
END:VEVENT
BEGIN:VEVENT
DTSTART;TZID=America/New_York:20250510T090000
DTEND;TZID=America/New_York:20250510T090000
DTSTAMP:20260423T104122
CREATED:20250505T095712Z
LAST-MODIFIED:20250505T100015Z
UID:219266-1746867600-1746867600@thepediatricplacellc.com
SUMMARY:Rev Up for Hero's Car Show
DESCRIPTION:
URL:https://thepediatricplacellc.com/event/rev-up-for-heros-car-show/
LOCATION:low\, Lowry City Volunteer Fire Department\, United States
END:VEVENT
BEGIN:VEVENT
DTSTART;TZID=America/New_York:20250505T100000
DTEND;TZID=America/New_York:20250505T113000
DTSTAMP:20260423T104122
CREATED:20241226T091749Z
LAST-MODIFIED:20241226T091757Z
UID:218628-1746439200-1746444600@thepediatricplacellc.com
SUMMARY:Harvesters Food Drive Thru
DESCRIPTION:
URL:https://thepediatricplacellc.com/event/harvesters-food-drive-thru-5/
LOCATION:Deepwater\, 707 S 8th Street\, Deepwater\, MO\, 64740\, United States
ORGANIZER;CN="Similique voluptatem":MAILTO:rapize@mailinator.com
END:VEVENT
BEGIN:VEVENT
DTSTART;TZID=America/New_York:20250421T070000
DTEND;TZID=America/New_York:20250421T083000
DTSTAMP:20260423T104122
CREATED:20241226T071909Z
LAST-MODIFIED:20241226T071958Z
UID:218599-1745218800-1745224200@thepediatricplacellc.com
SUMMARY:Golden Valley Seventh-day Adventist Church- Food Pantry
DESCRIPTION:
URL:https://thepediatricplacellc.com/event/golden-valley-seventh-day-adventist-church-food-pantry-4/
LOCATION:Golden Valley\, 2000 Community Drive Clinton\, MO 64735\, Clinton\, MO\, 64735\, United States
END:VEVENT
END:VCALENDAR