BEGIN:VCALENDAR
VERSION:2.0
PRODID:-//The Pediatric Place - ECPv6.15.20//NONSGML v1.0//EN
CALSCALE:GREGORIAN
METHOD:PUBLISH
X-WR-CALNAME:The Pediatric Place
X-ORIGINAL-URL:https://thepediatricplacellc.com
X-WR-CALDESC:Events for The Pediatric Place
REFRESH-INTERVAL;VALUE=DURATION:PT1H
X-Robots-Tag:noindex
X-PUBLISHED-TTL:PT1H
BEGIN:VTIMEZONE
TZID:America/New_York
BEGIN:DAYLIGHT
TZOFFSETFROM:-0500
TZOFFSETTO:-0400
TZNAME:EDT
DTSTART:20240310T070000
END:DAYLIGHT
BEGIN:STANDARD
TZOFFSETFROM:-0400
TZOFFSETTO:-0500
TZNAME:EST
DTSTART:20241103T060000
END:STANDARD
BEGIN:DAYLIGHT
TZOFFSETFROM:-0500
TZOFFSETTO:-0400
TZNAME:EDT
DTSTART:20250309T070000
END:DAYLIGHT
BEGIN:STANDARD
TZOFFSETFROM:-0400
TZOFFSETTO:-0500
TZNAME:EST
DTSTART:20251102T060000
END:STANDARD
BEGIN:DAYLIGHT
TZOFFSETFROM:-0500
TZOFFSETTO:-0400
TZNAME:EDT
DTSTART:20260308T070000
END:DAYLIGHT
BEGIN:STANDARD
TZOFFSETFROM:-0400
TZOFFSETTO:-0500
TZNAME:EST
DTSTART:20261101T060000
END:STANDARD
END:VTIMEZONE
BEGIN:VEVENT
DTSTART;TZID=America/New_York:20250117T110000
DTEND;TZID=America/New_York:20250117T150000
DTSTAMP:20260424T092648
CREATED:20241216T075436Z
LAST-MODIFIED:20241216T075436Z
UID:218568-1737111600-1737126000@thepediatricplacellc.com
SUMMARY:LINC Partnership Egg & Beef Distribution-Clinton
DESCRIPTION:
URL:https://thepediatricplacellc.com/event/linc-partnership-egg-beef-distribution-clinton-2/
END:VEVENT
END:VCALENDAR